BEGIN:VCALENDAR
VERSION:2.0
PRODID:-//eventon.com NONSGML v1.0//EN
CALSCALE:GREGORIAN
METHOD:PUBLISH
BEGIN:VEVENT
UID:69e60fd365f50
DTSTAMP:20260420T113651Z
DTSTART:20201225T203000Z
DTEND:20201227T213000Z
LOCATION:
SUMMARY:Lotusfesttage 2020
DESCRIPTION:Lotusfesttage 2020 ein Fest in Stille und Harmonie KLICKE HIER\
 ,  UM DICH ANZUMELDEN &nbsp; Oder kopiert den folgenden Link in Euren Brows
 er: https://v2202004119103114941.luckysrv.de:8443/yixueweb  Anmeldeschluss
  ist am Donnerstag\,  den 17. Dezember YiXue Anmeldeportal: Wer bisher noch
  nicht an YiXue Online-Seminaren teilgenommen hat\,  muss sich zunächst ei
 nmalig registrieren. Anschließend könnt Ihr Euch[..]\nhttps://yixue.de/ev
 ents/lotusfest-2020/
URL:https://yixue.de/events/lotusfest-2020/
END:VEVENT
END:VCALENDAR