BEGIN:VCALENDAR
VERSION:2.0
PRODID:-//eventon.com NONSGML v1.0//EN
CALSCALE:GREGORIAN
METHOD:PUBLISH
BEGIN:VEVENT
UID:69ed9111a3302
DTSTAMP:20260426T041409Z
DTSTART:20210101T190000Z
DTEND:20210101T213000Z
LOCATION:
SUMMARY:Das kosmische Tor ins himmlische GlÃ¼ck - 1.1.2021
DESCRIPTION:HAPPY NEW YEARÂ  2021 Kai Men Hong &#8211; der Blick durch das 
 kosmische Tor ins himmlische GlÃ¼ck ONLINE-Vortrag von GroÃŸmeister Wei Lin
 g Yi am 1. Januar 2021 um 20 Uhr Spendenbasis\,  fÃ¼r alle Interessierten Â
   Liebe YiXue-Freunde\,  liebe Interessierte\,  Ihr seid alle eingeladen\, 
  am 1. Januar gemeinsam mit GroÃŸmeister Wei[..]\nhttps://yixue.de/events/y
 angneujahr_2021/
URL:https://yixue.de/events/yangneujahr_2021/
END:VEVENT
END:VCALENDAR