BEGIN:VCALENDAR
VERSION:2.0
PRODID:-//eventon.com NONSGML v1.0//EN
CALSCALE:GREGORIAN
METHOD:PUBLISH
BEGIN:VEVENT
UID:69e736b0a36dc
DTSTAMP:20260421T083456Z
DTSTART:20220325
DTEND:20220326
LOCATION:
SUMMARY:Die Kraft des YiXue Reissacks
DESCRIPTION:Reissack-Klopftechnik Spezial Yi Qi Mi Dai FuTi &#8211; Ausleit
 ung von Fremdinformationen 25. &#8211; 27. März 2022 Bitte beachten! Anmel
 deschluss Da für das Intensivseminar Spezial-Reissäcke angefertigt werden
 \,  endet der Anmeldeschluss am 19. März. Nach verbindlicher Anmeldung bek
 ommt Ihr Euren Reissack per Post zugeschickt. Wir laden Euch herzlich zum 8
 . Mi Dai[..]\nhttps://yixue.de/events/20220325_onlineseminar/
URL:https://yixue.de/events/20220325_onlineseminar/
END:VEVENT
END:VCALENDAR