BEGIN:VCALENDAR
VERSION:2.0
PRODID:-//eventon.com NONSGML v1.0//EN
CALSCALE:GREGORIAN
METHOD:PUBLISH
BEGIN:VEVENT
UID:69e72bd2283d7
DTSTAMP:20260421T074834Z
DTSTART:20220409T180000Z
DTEND:20220409T203000Z
LOCATION:#
SUMMARY:Klarheit\,  Reinheit\,  Reinigung
DESCRIPTION:09. April | 20 &#8211; ca. 22.30 Uhr | auf Spendenbasis Thema: 
 Klarheit\,  Reinheit\,  Reinigung  Für alle Interessierten  Alle Interes
 sierten sind herzlich willkommen\,  das einzigartige Energiefeld und die Ar
 beitsweise von Großmeister Wei Ling Yi kennenzulernen und zu genießen; 
 ein spiritueller Vortrag mit Energieübertragung für die Kraft und das 
 Licht von Körper\,  Herz und Seele KLICKE[..]\nhttps://yixue.de/events/onl
 inevortrag_20220409/var/event_access
URL:https://yixue.de/events/onlinevortrag_20220409/var/event_access
END:VEVENT
END:VCALENDAR