BEGIN:VCALENDAR
VERSION:2.0
PRODID:-//eventon.com NONSGML v1.0//EN
CALSCALE:GREGORIAN
METHOD:PUBLISH
BEGIN:VEVENT
UID:69ecc7a919130
DTSTAMP:20260425T135449Z
DTSTART:20220624
DTEND:20220625
LOCATION:
SUMMARY:Die Geheimnisse des Langen Lebens
DESCRIPTION:LIVE Online-Seminar | 24. &#8211; 26. Juni mit Großmeister We
 i Ling Yi  Die Geheimnisse des Langen Lebens &#8211; Yi Yang &#8211; ges
 und\,  glücklich\,  vital KLICKE HIER\,  UM DICH ANZUMELDEN Ein YiXue Basi
 s-Seminar für alle Interessierten für EinsteigerInnen und  Fortgeschritt
 ene\,  für alle Altersstufen\,  mit intensiver Übungspraxis und Energiear
 beit\,  mit spirituellen Belehrungen\,  mit Austausch\,  Stille[..]\nhttps:
 //yixue.de/events/202206_onlineseminar/
URL:https://yixue.de/events/202206_onlineseminar/
END:VEVENT
END:VCALENDAR