BEGIN:VCALENDAR
VERSION:2.0
PRODID:-//eventon.com NONSGML v1.0//EN
CALSCALE:GREGORIAN
METHOD:PUBLISH
BEGIN:VEVENT
UID:69ebd858a25c1
DTSTAMP:20260424T205344Z
DTSTART:20221021
DTEND:20221022
LOCATION:
SUMMARY:Intensivseminar für Krebsbetroffene Yi Qi Kang Ai
DESCRIPTION:LIVE ONLINE SEMINAR &#8211; Intensivseminar für Krebsbetroffe
 ne mit Großmeister Wei Ling Yi von Freitag 21. bis Sonntag 23. Oktober 
 2022 THEMA: DER BLICK NACH INNEN  Neue Interessierte bitten wir Folgendes
  zu beachten: Da es sich um ein Spezialseminar handelt\,  bitten wir alle
  neuen Interessierten\,  sich vor der Anmeldung bei der Organisatorin Kar
 in Hattwig zu melden: MAIL karin.xinlian@t-online.de FON 0421.63 68 571.
  Hier erhalten[..]\nhttps://yixue.de/events/20221021_onlineseminar/
URL:https://yixue.de/events/20221021_onlineseminar/
END:VEVENT
END:VCALENDAR