BEGIN:VCALENDAR
VERSION:2.0
PRODID:-//eventon.com NONSGML v1.0//EN
CALSCALE:GREGORIAN
METHOD:PUBLISH
BEGIN:VEVENT
UID:69e4e835a69ee
DTSTAMP:20260419T143533Z
DTSTART:20230408T180000Z
DTEND:20230408T203000Z
LOCATION:
SUMMARY:Das Quant des Lotuslichts
DESCRIPTION:LIVE Online-Vortrag | 08. April | 20 &#8211; ca. 22.30 Uhr | Sp
 ende von Herzen FÃ¼r alle Interessierten:Â Alle Interessierten sind herzlic
 h willkommen\,  das einzigartige Energiefeld und die Arbeitsweise vonÂ GroÃ
 ŸmeisterÂ Wei Ling Yi kennenzulernen und zu genieÃŸen; ein spiritueller Vor
 tragÂ mit EnergieÃ¼bertragung fÃ¼r die Kraft undÂ dasÂ Licht von KÃ¶rper\, 
  Herz und Seele. Thema:Â â€žDas Quant[..]\nhttps://yixue.de/events/20230408
 _onlinevortrag/
URL:https://yixue.de/events/20230408_onlinevortrag/
END:VEVENT
END:VCALENDAR