BEGIN:VCALENDAR
VERSION:2.0
PRODID:-//eventon.com NONSGML v1.0//EN
CALSCALE:GREGORIAN
METHOD:PUBLISH
BEGIN:VEVENT
UID:69eaf7a895040
DTSTAMP:20260424T045504Z
DTSTART:20230517
DTEND:20230518
LOCATION:YiXue Bildungszentrum Nossen Seminarweg 5\,  01683 Nossen
SUMMARY:100 Kinder Gong - Bai Tong Gong
DESCRIPTION:17. &#8211; 21. Mai 2023 PraÌˆsenz-Seminar im YiXueÂ Bildungsze
 ntrumÂ Nossen 100 Kinder Gong &#8211; eine ganzheitliche Bewegungsform aus 
 dem GroÃŸen Lotus System &#8211; einÂ YiXue Basis-Seminar fÃ¼r alle Interes
 sierten\, Â fÃ¼r EinsteigerInnen &amp; Fortgeschrittene aller AltersstufenÂ
   THEMA: â€žMit Kinderherz und Kinderfreude zuruÌˆck in den natuÌˆrlichen Z
 ustand der Kindheit.â€œ WIRKUNG:Â 100 Kinder Gong erÃ¶ffnet sowohl Einsteig
 ernÂ als auch[..]\nhttps://yixue.de/events/202305_praesenzseminar/
URL:https://yixue.de/events/202305_praesenzseminar/
END:VEVENT
END:VCALENDAR