BEGIN:VCALENDAR
VERSION:2.0
PRODID:-//eventon.com NONSGML v1.0//EN
CALSCALE:GREGORIAN
METHOD:PUBLISH
BEGIN:VEVENT
UID:69ece2ffa675d
DTSTAMP:20260425T155127Z
DTSTART:20230721
DTEND:20230722
LOCATION:
SUMMARY:Cai Lian Qi – Die Kraft der sieben Sterne
DESCRIPTION:LIVE Online-Seminar | 21. &#8211; 23. Juli 2023 CAI LIAN QI De
 r siebenfarbige Regenbogen-Lotus und die Kraft der sieben Sterne im Sternbi
 ld Großer Wagen  YiXue Online-Kultivierungsseminar Stufe II Teilnahme-Vor
 aussetzung: Um an Kultivierungsseminaren der Stufe II teilnehmen zu können
 \,  ist es wichtig\,  das eigene Energieniveau stabilisiert und Erfahrungen
  mit intensiven Energiefeldern gesammelt[..]\nhttps://yixue.de/events/20230
 721_onlineseminar/
URL:https://yixue.de/events/20230721_onlineseminar/
END:VEVENT
END:VCALENDAR