BEGIN:VCALENDAR
VERSION:2.0
PRODID:-//eventon.com NONSGML v1.0//EN
CALSCALE:GREGORIAN
METHOD:PUBLISH
BEGIN:VEVENT
UID:69e9e088a73f8
DTSTAMP:20260423T090408Z
DTSTART:20231027
DTEND:20231028
LOCATION:
SUMMARY:Sitzen auf dem Lotus
DESCRIPTION:„Wir sitzen auf dem Lotus und schauen auf den Lotus vor unser
 en Augen“    &#8211; ein Meditations- und Kultivierungswochenende fü
 r alle Interessierten\,  für Einsteiger*innen und Fortgeschrittene. Das
  Retreat Sitzen auf dem Lotus ist der intensiven Meditationspraxis gewidmet
 . Es ermöglicht\,  sich in der Tiefe mit seiner Seele und dem Kosmos zu v
 erbinden\,  Erkenntnisse zu entfalten und[..]\nhttps://yixue.de/events/2023
 1027_onlineseminar/
URL:https://yixue.de/events/20231027_onlineseminar/
END:VEVENT
END:VCALENDAR