BEGIN:VCALENDAR
VERSION:2.0
PRODID:-//eventon.com NONSGML v1.0//EN
CALSCALE:GREGORIAN
METHOD:PUBLISH
BEGIN:VEVENT
UID:69eb2bc52c289
DTSTAMP:20260424T083725Z
DTSTART:20240210T190000Z
DTEND:20240210T213000Z
LOCATION:
SUMMARY:Online Event Yin-Neujahr - 2024 - das Jahr des Holz-Drachen
DESCRIPTION:Online-Event | 10. Februar | 20 &#8211; ca. 22.30 Uhr | auf S
 pendenbasis Yin-Neujahr &#8211; 2024 &#8211; das Jahr des Holz-Drachen Ein 
 Online Event mit spiritueller Belehrung und viel Qi für alle Interessiert
 en. Wir begrüßen das Yin Neujahr &#8211; das Jahr des Holz-Drachen &#8211
 ; wir feiern und singen und das online. Auch wenn[..]\nhttps://yixue.de/eve
 nts/202402_onlineevent_yinneujahr/
URL:https://yixue.de/events/202402_onlineevent_yinneujahr/
END:VEVENT
END:VCALENDAR