BEGIN:VCALENDAR
VERSION:2.0
PRODID:-//eventon.com NONSGML v1.0//EN
CALSCALE:GREGORIAN
METHOD:PUBLISH
BEGIN:VEVENT
UID:69e890a38de65
DTSTAMP:20260422T091059Z
DTSTART:20240628T140000Z
DTEND:20240630T203000Z
LOCATION:
SUMMARY:Online Kultivierungsseminar Cai Lian Qi â€“ Die Kraft der sieben Sterne
DESCRIPTION:YiXue Online Kultivierungsseminar Stufe II | 28. â€“ 30. Juni Â
  2023 mit GroÃŸmeister Wei Ling Yi Cai Lian Qi &#8211; Die Kraft der sieben
  Sterne Der siebenfarbige Regenbogen-Lotus und die Kraft der 7 Sterne im St
 ernbild GroÃŸer Wagen Teilnahme-Voraussetzung: Um an Kultivierungsseminaren
  der Stufe II teilnehmen zu kÃ¶nnen\,  ist es[..]\nhttps://yixue.de/events/
 202406_onlineseminar_cailianqi/
URL:https://yixue.de/events/202406_onlineseminar_cailianqi/
END:VEVENT
END:VCALENDAR