BEGIN:VCALENDAR
VERSION:2.0
PRODID:-//eventon.com NONSGML v1.0//EN
CALSCALE:GREGORIAN
METHOD:PUBLISH
BEGIN:VEVENT
UID:69eb45c162dc0
DTSTAMP:20260424T102817Z
DTSTART:20240609T140000Z
DTEND:20240611T110000Z
LOCATION:YiXue Bildungszentrum Nossen Seminarweg 5\,  01683 Nossen
SUMMARY:Präsenz Tanzseminar ’Yi Kuai Bu - Tanz mit dem Tuch’
DESCRIPTION:Präsenz Seminar im YiXue Bildungszentrum Nossen  | 09. &#82
 11; 11. Juni 2024  Yi Kuai Bu &#8211; Tanz mit dem Tuch &nbsp; Heilsamer K
 ultivierungstanz zur Herz- und Seelenregulierung &#8211; inspirierend &amp;
  herzöffnend Ein Basisseminar für EinsteigerInnen und Fortgeschrittene &#
 8211; alle sind herzlich willkommen. Die Erfahrung hat gezeigt\,  dass auch
  EinsteigerInnen auf dem Qi-Feld[..]\nhttps://yixue.de/events/202406_praese
 nzseminar-yikuaibu/
URL:https://yixue.de/events/202406_praesenzseminar-yikuaibu/
END:VEVENT
END:VCALENDAR