BEGIN:VCALENDAR
VERSION:2.0
PRODID:-//eventon.com NONSGML v1.0//EN
CALSCALE:GREGORIAN
METHOD:PUBLISH
BEGIN:VEVENT
UID:69e9f7c952660
DTSTAMP:20260423T104321Z
DTSTART:20240831
DTEND:20240901
LOCATION:
SUMMARY:Song Lian - Lotus schenken - Reise Schweden
DESCRIPTION:31. August &#8211; 09. September 2024 Song Lian &#8211; Lotus s
 chenken-Reise Schweden mit Großmeister Wei Ling Yi Von Samstag\,  dem 31. 
 August bis Montag den 09. September haben wir die besondere Gelegenheit\,  
 mit Lotus Großmeister Wei Ling Yi den Lotus im Rahmen einer Song Lian Reis
 e nach Schweden zu schenken.[..]\nhttps://yixue.de/events/20240831-songlian
 schweden/
URL:https://yixue.de/events/20240831-songlianschweden/
END:VEVENT
END:VCALENDAR