BEGIN:VCALENDAR
VERSION:2.0
PRODID:-//eventon.com NONSGML v1.0//EN
CALSCALE:GREGORIAN
METHOD:PUBLISH
BEGIN:VEVENT
UID:69e5e5e92f7da
DTSTAMP:20260420T083801Z
DTSTART:20250117
DTEND:20250118
LOCATION:
SUMMARY:Pu Lian Fa - Vertiefung in das Große Lotus System
DESCRIPTION:„Wenn eine Blume erblüht\,  dann werden hundert Blumen diese
 r lichtvollen Information folgen. Mögen wir alle die Lotuslichter in unse
 ren Herzen zum Leuchten bringen. Mögen wir alle auf den Lotusweg gehen\,  
 der zu uns gehört.“ Wei Ling Yi  Pu Lian Fa  &#8211; Vertiefung in das
  Große Lotus System HIGHLIGHT IM JANUAR vom[..]\nhttps://yixue.de/events/2
 0250117_onlineseminar_pulianfa/
URL:https://yixue.de/events/20250117_onlineseminar_pulianfa/
END:VEVENT
END:VCALENDAR