BEGIN:VCALENDAR
VERSION:2.0
PRODID:-//eventon.com NONSGML v1.0//EN
CALSCALE:GREGORIAN
METHOD:PUBLISH
BEGIN:VEVENT
UID:69e88f1d7f6a3
DTSTAMP:20260422T090429Z
DTSTART:20250227
DTEND:20250228
LOCATION:
SUMMARY:YiXue beim ’Chinesenfasching’  in Dietfurt an der Altmühl
DESCRIPTION:Präsenz Event am 27. Februar in Dietfurt a. d. Altmühl  YiXu
 e beim ’Chinesenfasching’in Dietfurt an der Altmühl  Unter dem Motto 
 „Im Auftrag seiner Kaiserei rettet Chung Kwai die Narretei“ zieht ab 14
 :00 Uhr der Faschingszug mit ca. 45 Gruppen durch die Stadt. Auch in diesem
  Jahr wird die YiXue mit[..]\nhttps://yixue.de/events/20250227_praesenzeven
 t_chinesenfasching/
URL:https://yixue.de/events/20250227_praesenzevent_chinesenfasching/
END:VEVENT
END:VCALENDAR