BEGIN:VCALENDAR
VERSION:2.0
PRODID:-//eventon.com NONSGML v1.0//EN
CALSCALE:GREGORIAN
METHOD:PUBLISH
BEGIN:VEVENT
UID:69e9c153afebe
DTSTAMP:20260423T065059Z
DTSTART:20250418T140000Z
DTEND:20250420T203000Z
LOCATION:
SUMMARY:Online Kultivierungsseminar Stufe I - ’Mi Dai FuTi’ Reissackklopftechnik
DESCRIPTION:YiXue Online Kultivierungsseminar Stufe I –  18. &#8211; 20.
  April 2025 Reissackklopftechnik ’Mi Dai FuTi’ Übungspraxis spezieller
  Reissack-Klopftechniken gegen sogenannte FuTi ́s\,  wie Anhaftungen\,  Fr
 emdinformationen und parasitäre Lebewesen. Theorie zu Ursachen und Folgen\
 ,  um Ursprünge zu erkennen und sie nach Möglichkeit aufzulösen. Teilnah
 mevoraussetzung: 2 Mi Dai Intensivkurse sind Voraussetzung für die[..]\nh
 ttps://yixue.de/events/20250418-onlineseminar-midaifuti/
URL:https://yixue.de/events/20250418-onlineseminar-midaifuti/
END:VEVENT
END:VCALENDAR